BEGIN:VCALENDAR
PRODID:LIGA-SPIELPLAN.DE
VERSION:2.0
CALSCALE:GREGORIAN
METHOD:PUBLISH
X-WR-CALNAME:Bundesliga
X-WR-TIMEZONE:Europe/Berlin
X-WR-CALDESC:
BEGIN:VEVENT
DTSTART:20250802T183000Z
DTEND:20250802T201500Z
DTSTAMP:20260421T190654Z
UID:BLSiga01rf
DESCRIPTION:1. Spieltag\n01.08.25 20:30: Schalke - Hertha 2 : 1\n02.08.25 13:00: Darmstadt - VfL Bochum 4 : 1\n02.08.25 13:00: Elversberg - Nürnberg 1 : 0\n02.08.25 13:00: KSC - Pr. Münster 3 : 2\n02.08.25 13:00: Paderborn - Holstein Kiel 2 : 1\n02.08.25 20:30: A. Bielefeld - Düsseldorf 5 : 1\n03.08.25 13:30: Magdeburg - Braunschweig 0 : 1\n03.08.25 13:30: Gr. Fürth - Dyn. Dresden 3 : 2\n03.08.25 13:30: Hannover 96 - Kaiserslautern 1 : 0\n\n\nhttps://www.liga-spielplan.de
LOCATION:
SEQUENCE:0
STATUS:CONFIRMED
SUMMARY:Arminia Bielefeld - Fortuna Düsseldorf (1. Spieltag)
TRANSP:OPAQUE
END:VEVENT
BEGIN:VEVENT
DTSTART:20250809T110000Z
DTEND:20250809T124500Z
DTSTAMP:20260421T190654Z
UID:BLSiga02rf
DESCRIPTION:2. Spieltag\n08.08.25 18:30: Pr. Münster - Paderborn 1 : 1\n08.08.25 18:30: Nürnberg - Darmstadt 0 : 1\n09.08.25 13:00: Braunschweig - Gr. Fürth 3 : 2\n09.08.25 13:00: Düsseldorf - Hannover 96 0 : 2\n09.08.25 13:00: Dyn. Dresden - Magdeburg 1 : 2\n09.08.25 20:30: Kaiserslautern - Schalke 1 : 0\n10.08.25 13:30: Holstein Kiel - A. Bielefeld 0 : 2\n10.08.25 13:30: VfL Bochum - Elversberg 2 : 0\n10.08.25 13:30: Hertha - KSC 0 : 0\n\n\nhttps://www.liga-spielplan.de
LOCATION:
SEQUENCE:0
STATUS:CONFIRMED
SUMMARY:Fortuna Düsseldorf - Hannover 96 (2. Spieltag)
TRANSP:OPAQUE
END:VEVENT
BEGIN:VEVENT
DTSTART:20250818T160000Z
DTEND:20250818T174500Z
DTSTAMP:20260421T190654Z
UID:BLSkal01rf
DESCRIPTION:1. Runde\n15.08.25 18:00: Großaspach - Leverkusen 0 : 4\n15.08.25 18:00: Saarbrücken - Magdeburg 1 : 3\n15.08.25 18:00: Gütersloh - Union Berlin 0 : 5\n15.08.25 20:45: A. Bielefeld - W. Bremen 1 : 0\n16.08.25 13:00: BFC Dynamo - VfL Bochum 1 : 3\n16.08.25 13:00: Pirmasens - HSV 1 : 2\n16.08.25 15:30: Bahlingen - Heidenheim 0 : 5\n16.08.25 15:30: E. Norderstedt - St. Pauli 2 : 3\n16.08.25 15:30: Han. Rostock - Hoffenheim 0 : 4\n16.08.25 15:30: Illertissen - Nürnberg 6 : 5\n16.08.25 15:30: Sandhausen - RB Leipzig 2 : 4\n16.08.25 15:30: Hemelingen - Wolfsburg 0 : 9\n16.08.25 18:00: En. Cottbus - Hannover 96 1 : 0\n16.08.25 18:00: Spfrd Lotte - SC Freiburg 0 : 2\n16.08.25 18:00: VfB Lübeck - Darmstadt 1 : 2\n17.08.25 13:00: FV Engers - Eintracht 0 : 5\n17.08.25 13:00: V. Köln - Paderborn 1 : 3\n17.08.25 15:30: BW Lohne - Gr. Fürth 0 : 2\n17.08.25 15:30: RSV Eintracht - Kaiserslautern 0 : 7\n17.08.25 15:30: Regensburg - 1. FC Köln 1 : 2\n17.08.25 15:30: Delmenhorst - Gladbach 2 : 3\n17.08.25 15:30: Lok Leipzig - Schalke 0 : 1\n17.08.25 15:30: Meuselwitz - KSC 0 : 5\n17.08.25 18:00: FC Homburg - Holstein Kiel 0 : 2\n17.08.25 18:00: Halle  - Augsburg 0 : 2\n17.08.25 18:00: SSV Ulm - Elversberg 0 : 1\n18.08.25 18:00: Dyn. Dresden - FSV Mainz 05 0 : 1\n18.08.25 18:00: Schweinfurt - Düsseldorf 2 : 4\n18.08.25 18:00: Pr. Münster - Hertha 3 : 5\n18.08.25 20:45: RW Essen - BVB 0 : 1\n26.08.25 20:45: Braunschweig - VfB Stuttgart 11 : 12\n27.08.25 20:45: Wiesbaden - FC Bayern 2 : 3\n\n\nhttps://www.liga-spielplan.de
LOCATION:
SEQUENCE:0
STATUS:CONFIRMED
SUMMARY:FC Schweinfurt - Fortuna Düsseldorf (1. Runde)
TRANSP:OPAQUE
END:VEVENT
BEGIN:VEVENT
DTSTART:20250823T110000Z
DTEND:20250823T124500Z
DTSTAMP:20260421T190654Z
UID:BLSiga03rf
DESCRIPTION:3. Spieltag\n22.08.25 18:30: Elversberg - Kaiserslautern 2 : 1\n22.08.25 18:30: Pr. Münster - Nürnberg 2 : 1\n23.08.25 13:00: Hannover 96 - Magdeburg 3 : 1\n23.08.25 13:00: Paderborn - Düsseldorf 1 : 2\n23.08.25 13:00: KSC - Braunschweig 2 : 0\n23.08.25 20:30: Schalke - VfL Bochum 2 : 1\n24.08.25 13:30: Darmstadt - Hertha 0 : 0\n24.08.25 13:30: Gr. Fürth - Holstein Kiel 0 : 2\n24.08.25 13:30: A. Bielefeld - Dyn. Dresden 1 : 2\n\n\nhttps://www.liga-spielplan.de
LOCATION:
SEQUENCE:0
STATUS:CONFIRMED
SUMMARY:SC Paderborn 07 - Fortuna Düsseldorf (3. Spieltag)
TRANSP:OPAQUE
END:VEVENT
BEGIN:VEVENT
DTSTART:20250830T183000Z
DTEND:20250830T201500Z
DTSTAMP:20260421T190654Z
UID:BLSiga04rf
DESCRIPTION:4. Spieltag\n29.08.25 18:30: Hertha - Elversberg 0 : 2\n29.08.25 18:30: Nürnberg - Paderborn 0 : 0\n30.08.25 13:00: Holstein Kiel - Hannover 96 1 : 2\n30.08.25 13:00: VfL Bochum - Pr. Münster 1 : 2\n30.08.25 13:00: Braunschweig - A. Bielefeld 1 : 1\n30.08.25 20:30: Düsseldorf - KSC 0 : 0\n31.08.25 13:30: Kaiserslautern - Darmstadt 3 : 1\n31.08.25 13:30: Magdeburg - Gr. Fürth 4 : 5\n31.08.25 13:30: Dyn. Dresden - Schalke 0 : 1\n\n\nhttps://www.liga-spielplan.de
LOCATION:
SEQUENCE:0
STATUS:CONFIRMED
SUMMARY:Fortuna Düsseldorf - Karlsruher SC (4. Spieltag)
TRANSP:OPAQUE
END:VEVENT
BEGIN:VEVENT
DTSTART:20250914T113000Z
DTEND:20250914T131500Z
DTSTAMP:20260421T190654Z
UID:BLSiga05rf
DESCRIPTION:5. Spieltag\n12.09.25 18:30: Paderborn - VfL Bochum 1 : 0\n12.09.25 18:30: A. Bielefeld - Magdeburg 2 : 0\n13.09.25 13:00: Schalke - Holstein Kiel 0 : 1\n13.09.25 13:00: Darmstadt - Braunschweig 2 : 1\n13.09.25 13:00: KSC - Nürnberg 2 : 1\n13.09.25 20:30: Hannover 96 - Hertha 0 : 3\n14.09.25 13:30: Elversberg - Dyn. Dresden 2 : 2\n14.09.25 13:30: Pr. Münster - Düsseldorf 1 : 2\n14.09.25 13:30: Gr. Fürth - Kaiserslautern 0 : 3\n\n\nhttps://www.liga-spielplan.de
LOCATION:
SEQUENCE:0
STATUS:CONFIRMED
SUMMARY:Preussen Münster - Fortuna Düsseldorf (5. Spieltag)
TRANSP:OPAQUE
END:VEVENT
BEGIN:VEVENT
DTSTART:20250921T113000Z
DTEND:20250921T131500Z
DTSTAMP:20260421T190654Z
UID:BLSiga06rf
DESCRIPTION:6. Spieltag\n19.09.25 18:30: Kaiserslautern - Pr. Münster 4 : 1\n19.09.25 18:30: A. Bielefeld - Gr. Fürth 1 : 3\n20.09.25 13:00: Braunschweig - Elversberg 1 : 4\n20.09.25 13:00: Magdeburg - Schalke 0 : 2\n20.09.25 13:00: Hertha - Paderborn 0 : 2\n20.09.25 20:30: Nürnberg - VfL Bochum 2 : 1\n21.09.25 13:30: Holstein Kiel - KSC 3 : 0\n21.09.25 13:30: Düsseldorf - Darmstadt 0 : 3\n21.09.25 13:30: Dyn. Dresden - Hannover 96 2 : 2\n\n\nhttps://www.liga-spielplan.de
LOCATION:
SEQUENCE:0
STATUS:CONFIRMED
SUMMARY:Fortuna Düsseldorf - Darmstadt 98 (6. Spieltag)
TRANSP:OPAQUE
END:VEVENT
BEGIN:VEVENT
DTSTART:20250927T183000Z
DTEND:20250927T201500Z
DTSTAMP:20260421T190654Z
UID:BLSiga07rf
DESCRIPTION:7. Spieltag\n26.09.25 18:30: Darmstadt - Dyn. Dresden 2 : 0\n26.09.25 18:30: Schalke - Gr. Fürth 1 : 0\n27.09.25 13:00: KSC - Magdeburg 1 : 0\n27.09.25 13:00: Elversberg - Holstein Kiel 1 : 0\n27.09.25 13:00: Paderborn - Kaiserslautern 2 : 0\n27.09.25 20:30: VfL Bochum - Düsseldorf 0 : 1\n28.09.25 13:30: Hannover 96 - A. Bielefeld 3 : 1\n28.09.25 13:30: Nürnberg - Hertha 0 : 3\n28.09.25 13:30: Pr. Münster - Braunschweig 3 : 1\n\n\nhttps://www.liga-spielplan.de
LOCATION:
SEQUENCE:0
STATUS:CONFIRMED
SUMMARY:VfL Bochum - Fortuna Düsseldorf (7. Spieltag)
TRANSP:OPAQUE
END:VEVENT
BEGIN:VEVENT
DTSTART:20251003T163000Z
DTEND:20251003T181500Z
DTSTAMP:20260421T190654Z
UID:BLSiga08rf
DESCRIPTION:8. Spieltag\n03.10.25 18:30: Braunschweig - Paderborn 1 : 2\n03.10.25 18:30: Düsseldorf - Nürnberg 2 : 3\n04.10.25 13:00: Holstein Kiel - Darmstadt 1 : 1\n04.10.25 13:00: Kaiserslautern - VfL Bochum 3 : 2\n04.10.25 13:00: Hertha - Pr. Münster 2 : 1\n04.10.25 20:30: Dyn. Dresden - KSC 3 : 3\n05.10.25 13:30: Magdeburg - Elversberg 0 : 4\n05.10.25 13:30: A. Bielefeld - Schalke 1 : 2\n05.10.25 13:30: Gr. Fürth - Hannover 96 2 : 2\n\n\nhttps://www.liga-spielplan.de
LOCATION:
SEQUENCE:0
STATUS:CONFIRMED
SUMMARY:Fortuna Düsseldorf - 1. FC Nürnberg (8. Spieltag)
TRANSP:OPAQUE
END:VEVENT
BEGIN:VEVENT
DTSTART:20251017T163000Z
DTEND:20251017T181500Z
DTSTAMP:20260421T190654Z
UID:BLSiga09rf
DESCRIPTION:9. Spieltag\n17.10.25 18:30: Düsseldorf - Braunschweig 1 : 2\n17.10.25 18:30: Hannover 96 - Schalke 0 : 3\n18.10.25 13:00: KSC - Kaiserslautern 2 : 3\n18.10.25 13:00: Paderborn - A. Bielefeld 4 : 3\n18.10.25 13:00: Pr. Münster - Dyn. Dresden 2 : 2\n18.10.25 20:30: VfL Bochum - Hertha 3 : 2\n19.10.25 13:30: Nürnberg - Holstein Kiel 1 : 1\n19.10.25 13:30: Elversberg - Gr. Fürth 6 : 0\n19.10.25 13:30: Darmstadt - Magdeburg 0 : 0\n\n\nhttps://www.liga-spielplan.de
LOCATION:
SEQUENCE:0
STATUS:CONFIRMED
SUMMARY:Fortuna Düsseldorf - Eintracht Braunschweig (9. Spieltag)
TRANSP:OPAQUE
END:VEVENT
BEGIN:VEVENT
DTSTART:20251025T183000Z
DTEND:20251025T201500Z
DTSTAMP:20260421T190654Z
UID:BLSiga10rf
DESCRIPTION:10. Spieltag\n24.10.25 18:30: Gr. Fürth - KSC 1 : 4\n24.10.25 18:30: Schalke - Darmstadt 1 : 0\n25.10.25 13:00: Holstein Kiel - VfL Bochum 1 : 1\n25.10.25 13:00: A. Bielefeld - Elversberg 2 : 0\n25.10.25 13:00: Dyn. Dresden - Paderborn 1 : 2\n25.10.25 20:30: Hertha - Düsseldorf 1 : 0\n26.10.25 13:30: Braunschweig - Hannover 96 0 : 3\n26.10.25 13:30: Magdeburg - Pr. Münster 2 : 0\n26.10.25 13:30: Kaiserslautern - Nürnberg 1 : 1\n\n\nhttps://www.liga-spielplan.de
LOCATION:
SEQUENCE:0
STATUS:CONFIRMED
SUMMARY:Hertha BSC - Fortuna Düsseldorf (10. Spieltag)
TRANSP:OPAQUE
END:VEVENT
BEGIN:VEVENT
DTSTART:20251029T194500Z
DTEND:20251029T213000Z
DTSTAMP:20260421T190654Z
UID:BLSkal02rf
DESCRIPTION:2. Runde\n28.10.25 18:30: Heidenheim - HSV 0 : 1\n28.10.25 18:30: Eintracht - BVB 2 : 4\n28.10.25 18:30: Wolfsburg - Holstein Kiel 0 : 1\n28.10.25 18:30: Hertha - Elversberg 3 : 0\n28.10.25 20:45: Augsburg - VfL Bochum 0 : 1\n28.10.25 20:45: St. Pauli - Hoffenheim 8 : 7\n28.10.25 20:45: En. Cottbus - RB Leipzig 1 : 4\n28.10.25 20:45: Gladbach - KSC 3 : 1\n29.10.25 18:00: Illertissen - Magdeburg 0 : 3\n29.10.25 18:00: Gr. Fürth - Kaiserslautern 0 : 1\n29.10.25 18:00: FSV Mainz 05 - VfB Stuttgart 0 : 2\n29.10.25 18:00: Paderborn - Leverkusen 2 : 4\n29.10.25 20:45: Düsseldorf - SC Freiburg 1 : 3\n29.10.25 20:45: Union Berlin - A. Bielefeld 2 : 1\n29.10.25 20:45: Darmstadt - Schalke 4 : 0\n29.10.25 20:45: 1. FC Köln - FC Bayern 1 : 4\n\n\nhttps://www.liga-spielplan.de
LOCATION:
SEQUENCE:0
STATUS:CONFIRMED
SUMMARY:Fortuna Düsseldorf - SC Freiburg (2. Runde)
TRANSP:OPAQUE
END:VEVENT
BEGIN:VEVENT
DTSTART:20251102T123000Z
DTEND:20251102T141500Z
DTSTAMP:20260421T190654Z
UID:BLSiga11rf
DESCRIPTION:11. Spieltag\n31.10.25 18:30: Elversberg - Hannover 96 2 : 2\n31.10.25 18:30: Pr. Münster - Holstein Kiel 2 : 1\n01.11.25 13:00: Hertha - Dyn. Dresden 2 : 0\n01.11.25 13:00: KSC - Schalke 2 : 1\n01.11.25 13:00: Nürnberg - Braunschweig 2 : 1\n01.11.25 20:30: Darmstadt - A. Bielefeld 2 : 2\n02.11.25 13:30: VfL Bochum - Magdeburg 2 : 0\n02.11.25 13:30: Düsseldorf - Kaiserslautern 1 : 1\n02.11.25 13:30: Paderborn - Gr. Fürth 2 : 1\n\n\nhttps://www.liga-spielplan.de
LOCATION:
SEQUENCE:0
STATUS:CONFIRMED
SUMMARY:Fortuna Düsseldorf - 1. FC Kaiserslautern (11. Spieltag)
TRANSP:OPAQUE
END:VEVENT
BEGIN:VEVENT
DTSTART:20251109T123000Z
DTEND:20251109T141500Z
DTSTAMP:20260421T190654Z
UID:BLSiga12rf
DESCRIPTION:12. Spieltag\n07.11.25 18:30: Gr. Fürth - Pr. Münster 1 : 0\n07.11.25 18:30: Dyn. Dresden - Nürnberg 1 : 2\n08.11.25 13:00: Hannover 96 - Darmstadt 2 : 3\n08.11.25 13:00: A. Bielefeld - KSC 4 : 0\n08.11.25 13:00: Schalke - Elversberg 1 : 0\n08.11.25 20:30: Kaiserslautern - Hertha 0 : 1\n09.11.25 13:30: Holstein Kiel - Düsseldorf 1 : 0\n09.11.25 13:30: Braunschweig - VfL Bochum 0 : 2\n09.11.25 13:30: Magdeburg - Paderborn 0 : 1\n\n\nhttps://www.liga-spielplan.de
LOCATION:
SEQUENCE:0
STATUS:CONFIRMED
SUMMARY:Holstein Kiel - Fortuna Düsseldorf (12. Spieltag)
TRANSP:OPAQUE
END:VEVENT
BEGIN:VEVENT
DTSTART:20251122T120000Z
DTEND:20251122T134500Z
DTSTAMP:20260421T190654Z
UID:BLSiga13rf
DESCRIPTION:13. Spieltag\n21.11.25 18:30: VfL Bochum - Dyn. Dresden 1 : 2\n21.11.25 18:30: Hertha - Braunschweig 1 : 0\n22.11.25 13:00: Paderborn - Hannover 96 0 : 2\n22.11.25 13:00: Düsseldorf - Magdeburg 2 : 1\n22.11.25 13:00: Pr. Münster - Schalke 0 : 0\n22.11.25 20:30: Darmstadt - Gr. Fürth 4 : 2\n23.11.25 13:30: Kaiserslautern - Holstein Kiel 4 : 1\n23.11.25 13:30: KSC - Elversberg 2 : 3\n23.11.25 13:30: Nürnberg - A. Bielefeld 2 : 0\n\n\nhttps://www.liga-spielplan.de
LOCATION:
SEQUENCE:0
STATUS:CONFIRMED
SUMMARY:Fortuna Düsseldorf - 1. FC Magdeburg (13. Spieltag)
TRANSP:OPAQUE
END:VEVENT
BEGIN:VEVENT
DTSTART:20251130T123000Z
DTEND:20251130T141500Z
DTSTAMP:20260421T190654Z
UID:BLSiga14rf
DESCRIPTION:14. Spieltag\n28.11.25 18:30: Hannover 96 - KSC 3 : 0\n28.11.25 18:30: Schalke - Paderborn 2 : 1\n29.11.25 13:00: Holstein Kiel - Hertha 0 : 1\n29.11.25 13:00: Braunschweig - Kaiserslautern 2 : 0\n29.11.25 13:00: Gr. Fürth - VfL Bochum 0 : 3\n29.11.25 20:30: Magdeburg - Nürnberg 3 : 0\n30.11.25 13:30: Elversberg - Darmstadt 0 : 0\n30.11.25 13:30: A. Bielefeld - Pr. Münster 1 : 2\n30.11.25 13:30: Dyn. Dresden - Düsseldorf 2 : 1\n\n\nhttps://www.liga-spielplan.de
LOCATION:
SEQUENCE:0
STATUS:CONFIRMED
SUMMARY:Dynamo Dresden - Fortuna Düsseldorf (14. Spieltag)
TRANSP:OPAQUE
END:VEVENT
BEGIN:VEVENT
DTSTART:20251205T173000Z
DTEND:20251205T191500Z
DTSTAMP:20260421T190654Z
UID:BLSiga15rf
DESCRIPTION:15. Spieltag\n05.12.25 18:30: Pr. Münster - Hannover 96 2 : 2\n05.12.25 18:30: Düsseldorf - Schalke 0 : 2\n06.12.25 13:00: VfL Bochum - A. Bielefeld 1 : 0\n06.12.25 13:00: Kaiserslautern - Dyn. Dresden 3 : 1\n06.12.25 13:00: Paderborn - Elversberg 1 : 2\n06.12.25 20:30: Darmstadt - KSC 3 : 2\n07.12.25 13:30: Nürnberg - Gr. Fürth 2 : 2\n07.12.25 13:30: Hertha - Magdeburg 0 : 2\n07.12.25 13:30: Braunschweig - Holstein Kiel 1 : 1\n\n\nhttps://www.liga-spielplan.de
LOCATION:
SEQUENCE:0
STATUS:CONFIRMED
SUMMARY:Fortuna Düsseldorf - FC Schalke 04 (15. Spieltag)
TRANSP:OPAQUE
END:VEVENT
BEGIN:VEVENT
DTSTART:20251214T123000Z
DTEND:20251214T141500Z
DTSTAMP:20260421T190654Z
UID:BLSiga16rf
DESCRIPTION:16. Spieltag\n12.12.25 18:30: Gr. Fürth - Hertha 3 : 3\n12.12.25 18:30: Dyn. Dresden - Braunschweig 2 : 3\n13.12.25 13:00: Magdeburg - Holstein Kiel 3 : 3\n13.12.25 13:00: A. Bielefeld - Kaiserslautern 0 : 0\n13.12.25 13:00: KSC - Paderborn 0 : 4\n13.12.25 20:30: Hannover 96 - VfL Bochum 0 : 0\n14.12.25 13:30: Elversberg - Düsseldorf 1 : 0\n14.12.25 13:30: Schalke - Nürnberg 1 : 0\n14.12.25 13:30: Darmstadt - Pr. Münster 1 : 0\n\n\nhttps://www.liga-spielplan.de
LOCATION:
SEQUENCE:0
STATUS:CONFIRMED
SUMMARY:SV Elversberg - Fortuna Düsseldorf (16. Spieltag)
TRANSP:OPAQUE
END:VEVENT
BEGIN:VEVENT
DTSTART:20251220T120000Z
DTEND:20251220T134500Z
DTSTAMP:20260421T190654Z
UID:BLSiga17rf
DESCRIPTION:17. Spieltag\n19.12.25 18:30: Hertha - A. Bielefeld 1 : 1\n19.12.25 18:30: Paderborn - Darmstadt 2 : 2\n20.12.25 13:00: Düsseldorf - Gr. Fürth 2 : 1\n20.12.25 13:00: VfL Bochum - KSC 2 : 2\n20.12.25 13:00: Kaiserslautern - Magdeburg 2 : 3\n20.12.25 20:30: Holstein Kiel - Dyn. Dresden 2 : 1\n21.12.25 13:30: Pr. Münster - Elversberg 1 : 1\n21.12.25 13:30: Nürnberg - Hannover 96 2 : 1\n21.12.25 13:30: Braunschweig - Schalke 2 : 1\n\n\nhttps://www.liga-spielplan.de
LOCATION:
SEQUENCE:0
STATUS:CONFIRMED
SUMMARY:Fortuna Düsseldorf - Greuther Fürth (17. Spieltag)
TRANSP:OPAQUE
END:VEVENT
BEGIN:VEVENT
DTSTART:20260116T173000Z
DTEND:20260116T191500Z
DTSTAMP:20260421T190654Z
UID:BLSiga18rf
DESCRIPTION:18. Spieltag\n16.01.26 18:30: Düsseldorf - A. Bielefeld 1 : 0\n16.01.26 18:30: Braunschweig - Magdeburg 0 : 3\n17.01.26 13:00: Nürnberg - Elversberg 3 : 2\n17.01.26 13:00: Pr. Münster - KSC 0 : 2\n17.01.26 13:00: Dyn. Dresden - Gr. Fürth 2 : 0\n17.01.26 20:30: Hertha - Schalke 0 : 0\n18.01.26 13:30: Holstein Kiel - Paderborn 2 : 0\n18.01.26 13:30: Kaiserslautern - Hannover 96 3 : 1\n18.01.26 13:30: VfL Bochum - Darmstadt 3 : 3\n\n\nhttps://www.liga-spielplan.de
LOCATION:
SEQUENCE:0
STATUS:CONFIRMED
SUMMARY:Fortuna Düsseldorf - Arminia Bielefeld (18. Spieltag)
TRANSP:OPAQUE
END:VEVENT
BEGIN:VEVENT
DTSTART:20260124T120000Z
DTEND:20260124T134500Z
DTSTAMP:20260421T190654Z
UID:BLSiga19rf
DESCRIPTION:19. Spieltag\n23.01.26 18:30: Darmstadt - Nürnberg 2 : 0\n23.01.26 18:30: A. Bielefeld - Holstein Kiel 2 : 2\n24.01.26 13:00: Gr. Fürth - Braunschweig 0 : 0\n24.01.26 13:00: Hannover 96 - Düsseldorf 2 : 1\n24.01.26 13:00: KSC - Hertha 2 : 2\n24.01.26 20:30: Magdeburg - Dyn. Dresden 1 : 2\n25.01.26 13:30: Elversberg - VfL Bochum 1 : 1\n25.01.26 13:30: Schalke - Kaiserslautern 2 : 2\n25.01.26 13:30: Paderborn - Pr. Münster 2 : 1\n\n\nhttps://www.liga-spielplan.de
LOCATION:
SEQUENCE:0
STATUS:CONFIRMED
SUMMARY:Hannover 96 - Fortuna Düsseldorf (19. Spieltag)
TRANSP:OPAQUE
END:VEVENT
BEGIN:VEVENT
DTSTART:20260201T123000Z
DTEND:20260201T141500Z
DTSTAMP:20260421T190654Z
UID:BLSiga20rf
DESCRIPTION:20. Spieltag\n30.01.26 18:30: Magdeburg - Hannover 96 1 : 2\n30.01.26 18:30: Nürnberg - Pr. Münster 1 : 1\n31.01.26 13:00: VfL Bochum - Schalke 2 : 0\n31.01.26 13:00: Braunschweig - KSC 1 : 0\n31.01.26 13:00: Holstein Kiel - Gr. Fürth 1 : 2\n31.01.26 20:30: Kaiserslautern - Elversberg 1 : 3\n01.02.26 13:30: Düsseldorf - Paderborn 2 : 1\n01.02.26 13:30: Hertha - Darmstadt 2 : 2\n01.02.26 13:30: Dyn. Dresden - A. Bielefeld 1 : 1\n\n\nhttps://www.liga-spielplan.de
LOCATION:
SEQUENCE:0
STATUS:CONFIRMED
SUMMARY:Fortuna Düsseldorf - SC Paderborn 07 (20. Spieltag)
TRANSP:OPAQUE
END:VEVENT
BEGIN:VEVENT
DTSTART:20260208T123000Z
DTEND:20260208T141500Z
DTSTAMP:20260421T190654Z
UID:BLSiga21rf
DESCRIPTION:21. Spieltag\n06.02.26 18:30: Pr. Münster - VfL Bochum 1 : 1\n06.02.26 18:30: Gr. Fürth - Magdeburg 4 : 5\n07.02.26 13:00: Elversberg - Hertha 0 : 3\n07.02.26 13:00: Paderborn - Nürnberg 2 : 1\n07.02.26 13:00: Schalke - Dyn. Dresden 2 : 2\n07.02.26 20:30: Darmstadt - Kaiserslautern 4 : 0\n08.02.26 13:30: Hannover 96 - Holstein Kiel 3 : 1\n08.02.26 13:30: KSC - Düsseldorf 1 : 1\n08.02.26 13:30: A. Bielefeld - Braunschweig 3 : 2\n\n\nhttps://www.liga-spielplan.de
LOCATION:
SEQUENCE:0
STATUS:CONFIRMED
SUMMARY:Karlsruher SC - Fortuna Düsseldorf (21. Spieltag)
TRANSP:OPAQUE
END:VEVENT
BEGIN:VEVENT
DTSTART:20260213T173000Z
DTEND:20260213T191500Z
DTSTAMP:20260421T190654Z
UID:BLSiga22rf
DESCRIPTION:22. Spieltag\n13.02.26 18:30: Düsseldorf - Pr. Münster 0 : 0\n13.02.26 18:30: Nürnberg - KSC 5 : 1\n14.02.26 13:00: Hertha - Hannover 96 2 : 3\n14.02.26 13:00: Braunschweig - Darmstadt 2 : 2\n14.02.26 13:00: Kaiserslautern - Gr. Fürth 1 : 0\n14.02.26 20:30: Dyn. Dresden - Elversberg 1 : 2\n15.02.26 13:30: Holstein Kiel - Schalke 1 : 2\n15.02.26 13:30: VfL Bochum - Paderborn 0 : 0\n15.02.26 13:30: Magdeburg - A. Bielefeld 0 : 2\n\n\nhttps://www.liga-spielplan.de
LOCATION:
SEQUENCE:0
STATUS:CONFIRMED
SUMMARY:Fortuna Düsseldorf - Preussen Münster (22. Spieltag)
TRANSP:OPAQUE
END:VEVENT
BEGIN:VEVENT
DTSTART:20260221T120000Z
DTEND:20260221T134500Z
DTSTAMP:20260421T190655Z
UID:BLSiga23rf
DESCRIPTION:23. Spieltag\n20.02.26 18:30: VfL Bochum - Nürnberg 1 : 1\n20.02.26 18:30: Gr. Fürth - A. Bielefeld 2 : 1\n21.02.26 13:00: KSC - Holstein Kiel 3 : 1\n21.02.26 13:00: Elversberg - Braunschweig 3 : 1\n21.02.26 13:00: Darmstadt - Düsseldorf 2 : 1\n21.02.26 20:30: Schalke - Magdeburg 5 : 3\n22.02.26 13:30: Pr. Münster - Kaiserslautern 2 : 3\n22.02.26 13:30: Paderborn - Hertha 5 : 2\n22.02.26 13:30: Hannover 96 - Dyn. Dresden 0 : 0\n\n\nhttps://www.liga-spielplan.de
LOCATION:
SEQUENCE:0
STATUS:CONFIRMED
SUMMARY:Darmstadt 98 - Fortuna Düsseldorf (23. Spieltag)
TRANSP:OPAQUE
END:VEVENT
BEGIN:VEVENT
DTSTART:20260227T173000Z
DTEND:20260227T191500Z
DTSTAMP:20260421T190655Z
UID:BLSiga24rf
DESCRIPTION:24. Spieltag\n27.02.26 18:30: Düsseldorf - VfL Bochum 2 : 1\n27.02.26 18:30: Dyn. Dresden - Darmstadt 3 : 1\n28.02.26 13:00: Holstein Kiel - Elversberg 1 : 1\n28.02.26 13:00: A. Bielefeld - Hannover 96 0 : 1\n28.02.26 13:00: Kaiserslautern - Paderborn 1 : 2\n28.02.26 20:30: Gr. Fürth - Schalke 1 : 1\n01.03.26 13:30: Magdeburg - KSC 1 : 3\n01.03.26 13:30: Hertha - Nürnberg 2 : 1\n01.03.26 13:30: Braunschweig - Pr. Münster 1 : 2\n\n\nhttps://www.liga-spielplan.de
LOCATION:
SEQUENCE:0
STATUS:CONFIRMED
SUMMARY:Fortuna Düsseldorf - VfL Bochum (24. Spieltag)
TRANSP:OPAQUE
END:VEVENT
BEGIN:VEVENT
DTSTART:20260307T120000Z
DTEND:20260307T134500Z
DTSTAMP:20260421T190655Z
UID:BLSiga25rf
DESCRIPTION:25. Spieltag\n06.03.26 18:30: Elversberg - Magdeburg 1 : 0\n06.03.26 18:30: Schalke - A. Bielefeld 1 : 0\n07.03.26 13:00: Darmstadt - Holstein Kiel 2 : 0\n07.03.26 13:00: Paderborn - Braunschweig 1 : 1\n07.03.26 13:00: Nürnberg - Düsseldorf 0 : 1\n07.03.26 20:30: VfL Bochum - Kaiserslautern 3 : 2\n08.03.26 13:30: Pr. Münster - Hertha 1 : 2\n08.03.26 13:30: Hannover 96 - Gr. Fürth 1 : 2\n08.03.26 13:30: KSC - Dyn. Dresden 3 : 3\n\n\nhttps://www.liga-spielplan.de
LOCATION:
SEQUENCE:0
STATUS:CONFIRMED
SUMMARY:1. FC Nürnberg - Fortuna Düsseldorf (25. Spieltag)
TRANSP:OPAQUE
END:VEVENT
BEGIN:VEVENT
DTSTART:20260314T120000Z
DTEND:20260314T134500Z
DTSTAMP:20260421T190655Z
UID:BLSiga26rf
DESCRIPTION:26. Spieltag\n13.03.26 18:30: Gr. Fürth - Elversberg 2 : 0\n13.03.26 18:30: Magdeburg - Darmstadt 1 : 1\n14.03.26 13:00: Braunschweig - Düsseldorf 1 : 0\n14.03.26 13:00: Holstein Kiel - Nürnberg 2 : 3\n14.03.26 13:00: A. Bielefeld - Paderborn 2 : 2\n14.03.26 20:30: Hertha - VfL Bochum 1 : 1\n15.03.26 13:30: Kaiserslautern - KSC 3 : 0\n15.03.26 13:30: Schalke - Hannover 96 2 : 2\n15.03.26 13:30: Dyn. Dresden - Pr. Münster 6 : 0\n\n\nhttps://www.liga-spielplan.de
LOCATION:
SEQUENCE:0
STATUS:CONFIRMED
SUMMARY:Eintracht Braunschweig - Fortuna Düsseldorf (26. Spieltag)
TRANSP:OPAQUE
END:VEVENT
BEGIN:VEVENT
DTSTART:20260322T123000Z
DTEND:20260322T141500Z
DTSTAMP:20260421T190655Z
UID:BLSiga27rf
DESCRIPTION:27. Spieltag\n20.03.26 18:30: Hannover 96 - Braunschweig 1 : 0\n20.03.26 18:30: KSC - Gr. Fürth 3 : 1\n21.03.26 13:00: Elversberg - A. Bielefeld 3 : 1\n21.03.26 13:00: Nürnberg - Kaiserslautern 3 : 0\n21.03.26 13:00: Paderborn - Dyn. Dresden 2 : 1\n21.03.26 20:30: Darmstadt - Schalke 1 : 1\n22.03.26 13:30: VfL Bochum - Holstein Kiel 2 : 3\n22.03.26 13:30: Düsseldorf - Hertha 2 : 5\n22.03.26 13:30: Pr. Münster - Magdeburg 1 : 3\n\n\nhttps://www.liga-spielplan.de
LOCATION:
SEQUENCE:0
STATUS:CONFIRMED
SUMMARY:Fortuna Düsseldorf - Hertha BSC (27. Spieltag)
TRANSP:OPAQUE
END:VEVENT
BEGIN:VEVENT
DTSTART:20260404T110000Z
DTEND:20260404T124500Z
DTSTAMP:20260421T190655Z
UID:BLSiga28rf
DESCRIPTION:28. Spieltag\n04.04.26 13:00: Magdeburg - VfL Bochum 4 : 1\n04.04.26 13:00: Kaiserslautern - Düsseldorf 3 : 0\n04.04.26 13:00: A. Bielefeld - Darmstadt 2 : 1\n04.04.26 20:30: Dyn. Dresden - Hertha 0 : 1\n05.04.26 13:30: Hannover 96 - Elversberg 1 : 1\n05.04.26 13:30: Schalke - KSC 1 : 0\n05.04.26 13:30: Gr. Fürth - Paderborn 0 : 2\n05.04.26 13:30: Braunschweig - Nürnberg 1 : 1\n05.04.26 13:30: Holstein Kiel - Pr. Münster 0 : 0\n\n\nhttps://www.liga-spielplan.de
LOCATION:
SEQUENCE:0
STATUS:CONFIRMED
SUMMARY:1. FC Kaiserslautern - Fortuna Düsseldorf (28. Spieltag)
TRANSP:OPAQUE
END:VEVENT
BEGIN:VEVENT
DTSTART:20260410T163000Z
DTEND:20260410T181500Z
DTSTAMP:20260421T190655Z
UID:BLSiga29rf
DESCRIPTION:29. Spieltag\n10.04.26 18:30: Düsseldorf - Holstein Kiel 1 : 2\n10.04.26 18:30: KSC - A. Bielefeld 4 : 1\n11.04.26 13:00: Pr. Münster - Gr. Fürth 0 : 0\n11.04.26 13:00: Hertha - Kaiserslautern 0 : 1\n11.04.26 13:00: Nürnberg - Dyn. Dresden 0 : 2\n11.04.26 20:30: Darmstadt - Hannover 96 0 : 2\n12.04.26 13:30: VfL Bochum - Braunschweig 4 : 1\n12.04.26 13:30: Paderborn - Magdeburg 4 : 3\n12.04.26 13:30: Elversberg - Schalke 1 : 2\n\n\nhttps://www.liga-spielplan.de
LOCATION:
SEQUENCE:0
STATUS:CONFIRMED
SUMMARY:Fortuna Düsseldorf - Holstein Kiel (29. Spieltag)
TRANSP:OPAQUE
END:VEVENT
BEGIN:VEVENT
DTSTART:20260418T110000Z
DTEND:20260418T124500Z
DTSTAMP:20260421T190655Z
UID:BLSiga30rf
DESCRIPTION:30. Spieltag\n17.04.26 18:30: Holstein Kiel - Kaiserslautern 3 : 0\n17.04.26 18:30: Elversberg - KSC 3 : 0\n18.04.26 13:00: Dyn. Dresden - VfL Bochum 2 : 0\n18.04.26 13:00: Magdeburg - Düsseldorf 2 : 0\n18.04.26 13:00: A. Bielefeld - Nürnberg 1 : 1\n18.04.26 20:30: Hannover 96 - Paderborn 1 : 1\n19.04.26 13:30: Braunschweig - Hertha 1 : 1\n19.04.26 13:30: Gr. Fürth - Darmstadt 3 : 2\n19.04.26 13:30: Schalke - Pr. Münster 4 : 1\n\n\nhttps://www.liga-spielplan.de
LOCATION:
SEQUENCE:0
STATUS:CONFIRMED
SUMMARY:1. FC Magdeburg - Fortuna Düsseldorf (30. Spieltag)
TRANSP:OPAQUE
END:VEVENT
BEGIN:VEVENT
DTSTART:20260424T163000Z
DTEND:20260424T181500Z
DTSTAMP:20260421T190655Z
UID:BLSiga31rf
DESCRIPTION:31. Spieltag\n24.04.26 18:30: Kaiserslautern - Braunschweig\n24.04.26 18:30: Düsseldorf - Dyn. Dresden\n25.04.26 13:00: Hertha - Holstein Kiel\n25.04.26 13:00: KSC - Hannover 96\n25.04.26 13:00: Pr. Münster - A. Bielefeld\n25.04.26 20:30: Darmstadt - Elversberg\n26.04.26 13:30: VfL Bochum - Gr. Fürth\n26.04.26 13:30: Nürnberg - Magdeburg\n26.04.26 13:30: Paderborn - Schalke\n\n\nhttps://www.liga-spielplan.de
LOCATION:
SEQUENCE:0
STATUS:CONFIRMED
SUMMARY:Fortuna Düsseldorf - Dynamo Dresden (31. Spieltag)
TRANSP:OPAQUE
END:VEVENT
BEGIN:VEVENT
DTSTART:20260502T183000Z
DTEND:20260502T201500Z
DTSTAMP:20260421T190655Z
UID:BLSiga32rf
DESCRIPTION:32. Spieltag\n02.05.26 13:00: A. Bielefeld - VfL Bochum\n02.05.26 13:00: Dyn. Dresden - Kaiserslautern\n02.05.26 13:00: Holstein Kiel - Braunschweig\n02.05.26 20:30: Schalke - Düsseldorf\n03.05.26 13:30: KSC - Darmstadt\n03.05.26 13:30: Elversberg - Paderborn\n03.05.26 13:30: Gr. Fürth - Nürnberg\n03.05.26 13:30: Hannover 96 - Pr. Münster\n03.05.26 13:30: Magdeburg - Hertha\n\n\nhttps://www.liga-spielplan.de
LOCATION:
SEQUENCE:0
STATUS:CONFIRMED
SUMMARY:FC Schalke 04 - Fortuna Düsseldorf (32. Spieltag)
TRANSP:OPAQUE
END:VEVENT
BEGIN:VEVENT
DTSTART:20260510T113000Z
DTEND:20260510T131500Z
DTSTAMP:20260421T190655Z
UID:BLSiga33rf
DESCRIPTION:33. Spieltag\n08.05.26 18:30: Kaiserslautern - A. Bielefeld\n08.05.26 18:30: Paderborn - KSC\n09.05.26 13:00: VfL Bochum - Hannover 96\n09.05.26 13:00: Holstein Kiel - Magdeburg\n09.05.26 13:00: Braunschweig - Dyn. Dresden\n09.05.26 20:30: Nürnberg - Schalke\n10.05.26 13:30: Düsseldorf - Elversberg\n10.05.26 13:30: Pr. Münster - Darmstadt\n10.05.26 13:30: Hertha - Gr. Fürth\n\n\nhttps://www.liga-spielplan.de
LOCATION:
SEQUENCE:0
STATUS:CONFIRMED
SUMMARY:Fortuna Düsseldorf - SV Elversberg (33. Spieltag)
TRANSP:OPAQUE
END:VEVENT
BEGIN:VEVENT
DTSTART:20260517T133000Z
DTEND:20260517T151500Z
DTSTAMP:20260421T190655Z
UID:BLSiga34rf
DESCRIPTION:34. Spieltag\n17.05.26 15:30: Dyn. Dresden - Holstein Kiel\n17.05.26 15:30: Gr. Fürth - Düsseldorf\n17.05.26 15:30: A. Bielefeld - Hertha\n17.05.26 15:30: KSC - VfL Bochum\n17.05.26 15:30: Magdeburg - Kaiserslautern\n17.05.26 15:30: Elversberg - Pr. Münster\n17.05.26 15:30: Darmstadt - Paderborn\n17.05.26 15:30: Hannover 96 - Nürnberg\n17.05.26 15:30: Schalke - Braunschweig\n\n\nhttps://www.liga-spielplan.de
LOCATION:
SEQUENCE:0
STATUS:CONFIRMED
SUMMARY:Greuther Fürth - Fortuna Düsseldorf (34. Spieltag)
TRANSP:OPAQUE
END:VEVENT
END:VCALENDAR
